View In:
ArcGIS JavaScript
ArcGIS Online Map Viewer
ArcGIS Earth
Service Description: Aerials/Aerial_1994_Final
Name: Aerials/Aerial_1994_Final
Description:
Single Fused Map Cache: false
Extent:
XMin: -9140023.486452809
YMin: 3204051.287244475
XMax: -9031065.970600728
YMax: 3294709.369799994
Spatial Reference: 102100
(3857)
LatestVCSWkid(0)
Initial Extent:
XMin: -9140023.486452809
YMin: 3204051.287244475
XMax: -9031065.970600728
YMax: 3294709.369799994
Spatial Reference: 102100
(3857)
LatestVCSWkid(0)
Full Extent:
XMin: -9140023.486452809
YMin: 3204051.287244475
XMax: -9031065.970600728
YMax: 3294709.369799994
Spatial Reference: 102100
(3857)
LatestVCSWkid(0)
Pixel Size X: 6.169734759460966
Pixel Size Y: 6.169734759460933
Band Count: 1
Pixel Type: U8
RasterFunction Infos: {"rasterFunctionInfos": [{
"name": "None",
"description": "",
"help": ""
}]}
Mensuration Capabilities: Basic
Inspection Capabilities:
Has Histograms: true
Has Colormap: false
Has Multi Dimensions : false
Rendering Rule:
Min Scale: 0
Max Scale: 0
Copyright Text:
Service Data Type: esriImageServiceDataTypeGeneric
Min Values: 0
Max Values: 255
Mean Values: 114.51114975862033
Standard Deviation Values: 61.354254773926236
Object ID Field:
Fields:
None
Default Mosaic Method: Center
Allowed Mosaic Methods:
SortField:
SortValue: null
Mosaic Operator: First
Default Compression Quality: 75
Default Resampling Method: Bilinear
Max Record Count: null
Max Image Height: 4100
Max Image Width: 15000
Max Download Image Count: null
Max Mosaic Image Count: null
Allow Raster Function: true
Allow Copy: true
Allow Analysis: true
Allow Compute TiePoints: false
Supports Statistics: false
Supports Advanced Queries: false
Use StandardizedQueries: true
Raster Type Infos:
Name: Raster Dataset
Description: Supports all ArcGIS Raster Datasets
Help:
Has Raster Attribute Table: false
Edit Fields Info: null
Ownership Based AccessControl For Rasters: null
Child Resources:
Info
Histograms
Statistics
Key Properties
Legend
Raster Function Infos
Supported Operations:
Export Image
Identify
Measure
Compute Histograms
Compute Statistics Histograms
Get Samples
Compute Class Statistics
Query Boundary
Compute Pixel Location
Compute Angles
Validate
Project