View In:
ArcGIS JavaScript
ArcGIS Online Map Viewer
ArcGIS Earth
Service Description: Images_1988
Name: Aerials/1988Aerials
Description: Images_1988
Single Fused Map Cache: false
Extent:
XMin: -9143621.798604337
YMin: 3199176.0810293774
XMax: -9084472.29677981
YMax: 3299522.21459965
Spatial Reference: 102100
(3857)
LatestVCSWkid(0)
Initial Extent:
XMin: -9143621.798604337
YMin: 3199176.0810293774
XMax: -9084472.29677981
YMax: 3299522.21459965
Spatial Reference: 102100
(3857)
LatestVCSWkid(0)
Full Extent:
XMin: -9143621.798604337
YMin: 3199176.0810293774
XMax: -9084472.29677981
YMax: 3299522.21459965
Spatial Reference: 102100
(3857)
LatestVCSWkid(0)
Pixel Size X: 0.30645187304821403
Pixel Size Y: 0.30645187304821414
Band Count: 1
Pixel Type: U8
RasterFunction Infos: {"rasterFunctionInfos": [{
"name": "None",
"description": "",
"help": ""
}]}
Mensuration Capabilities: Basic
Inspection Capabilities:
Has Histograms: true
Has Colormap: false
Has Multi Dimensions : false
Rendering Rule:
Min Scale: 0
Max Scale: 0
Copyright Text:
Service Data Type: esriImageServiceDataTypeGeneric
Min Values: 0
Max Values: 255
Mean Values: 133.26575389377922
Standard Deviation Values: 40.601976997063026
Object ID Field:
Fields:
None
Default Mosaic Method: Center
Allowed Mosaic Methods:
SortField:
SortValue: null
Mosaic Operator: First
Default Compression Quality: 75
Default Resampling Method: Bilinear
Max Record Count: null
Max Image Height: 4100
Max Image Width: 15000
Max Download Image Count: null
Max Mosaic Image Count: null
Allow Raster Function: true
Allow Copy: true
Allow Analysis: true
Allow Compute TiePoints: false
Supports Statistics: false
Supports Advanced Queries: false
Use StandardizedQueries: true
Raster Type Infos:
Name: Raster Dataset
Description: Supports all ArcGIS Raster Datasets
Help:
Has Raster Attribute Table: false
Edit Fields Info: null
Ownership Based AccessControl For Rasters: null
Child Resources:
Info
Histograms
Statistics
Key Properties
Legend
Raster Function Infos
Supported Operations:
Export Image
Identify
Measure
Compute Histograms
Compute Statistics Histograms
Get Samples
Compute Class Statistics
Query Boundary
Compute Pixel Location
Compute Angles
Validate
Project