View In:
ArcGIS JavaScript
ArcGIS Online Map Viewer
ArcGIS Earth
Service Description: Imagery_1964
Name: Aerials/1964Aerials
Description: Imagery_1964
Single Fused Map Cache: false
Extent:
XMin: -9142458.923077347
YMin: 3199204.724148212
XMax: -9027074.85042886
YMax: 3297694.9136499576
Spatial Reference: 102100
(3857)
LatestVCSWkid(0)
Initial Extent:
XMin: -9142458.923077347
YMin: 3199204.724148212
XMax: -9027074.85042886
YMax: 3297694.9136499576
Spatial Reference: 102100
(3857)
LatestVCSWkid(0)
Full Extent:
XMin: -9142458.923077347
YMin: 3199204.724148212
XMax: -9027074.85042886
YMax: 3297694.9136499576
Spatial Reference: 102100
(3857)
LatestVCSWkid(0)
Pixel Size X: 2.6119176169976033
Pixel Size Y: 2.6119176169976033
Band Count: 4
Pixel Type: U8
RasterFunction Infos: {"rasterFunctionInfos": [{
"name": "None",
"description": "",
"help": ""
}]}
Mensuration Capabilities: Basic
Inspection Capabilities:
Has Histograms: true
Has Colormap: false
Has Multi Dimensions : false
Rendering Rule:
Min Scale: 0
Max Scale: 0
Copyright Text:
Service Data Type: esriImageServiceDataTypeGeneric
Min Values: 0, 0, 0, 255
Max Values: 255, 255, 255, 255
Mean Values: 127.18856586156772, 126.17158469832613, 125.19286150332016, 255
Standard Deviation Values: 34.145702807631324, 33.768265894336395, 33.559816254156395, 0
Object ID Field:
Fields:
None
Default Mosaic Method: Northwest
Allowed Mosaic Methods: NorthWest,Center,LockRaster,ByAttribute,Nadir,Viewpoint,Seamline,None
SortField:
SortValue: null
Mosaic Operator: First
Default Compression Quality: 75
Default Resampling Method: Bilinear
Max Record Count: 1000
Max Image Height: 4100
Max Image Width: 15000
Max Download Image Count: 20
Max Mosaic Image Count: 20
Allow Raster Function: true
Allow Copy: true
Allow Analysis: true
Allow Compute TiePoints: false
Supports Statistics: false
Supports Advanced Queries: false
Use StandardizedQueries: true
Raster Type Infos:
Name: Raster Dataset
Description: Supports all ArcGIS Raster Datasets
Help:
Has Raster Attribute Table: false
Edit Fields Info: null
Ownership Based AccessControl For Rasters: null
Child Resources:
Info
Histograms
Statistics
Key Properties
Legend
Raster Function Infos
Supported Operations:
Export Image
Query
Identify
Measure
Compute Histograms
Compute Statistics Histograms
Get Samples
Compute Class Statistics
Query GPS Info
Find Images
Image to Map
Map to Image
Measure from Image
Image to Map Multiray
Query Boundary
Compute Pixel Location
Compute Angles
Validate
Project