<?xml version="1.0" encoding="UTF-8" standalone="no"?>
<metadata xml:lang="en">
<Esri>
<CreaDate>20140410</CreaDate>
<CreaTime>10031200</CreaTime>
<ArcGISFormat>1.0</ArcGISFormat>
<ArcGISstyle>FGDC CSDGM Metadata</ArcGISstyle>
<SyncOnce>FALSE</SyncOnce>
<DataProperties>
<lineage>
<Process Date="20201125" Time="221922" ToolSource="c:\program files\arcgis\pro\Resources\ArcToolbox\toolboxes\Data Management Tools.tbx\ProjectRaster">ProjectRaster Images_1988 \\arcfs01\ImageServices\imagery\Geodatabases\Mosaics_Web_Mercator.gdb\Projected1988Aerial PROJCS['WGS_1984_Web_Mercator_Auxiliary_Sphere',GEOGCS['GCS_WGS_1984',DATUM['D_WGS_1984',SPHEROID['WGS_1984',6378137.0,298.257223563]],PRIMEM['Greenwich',0.0],UNIT['Degree',0.0174532925199433]],PROJECTION['Mercator_Auxiliary_Sphere'],PARAMETER['False_Easting',0.0],PARAMETER['False_Northing',0.0],PARAMETER['Central_Meridian',0.0],PARAMETER['Standard_Parallel_1',0.0],PARAMETER['Auxiliary_Sphere_Type',0.0],UNIT['Meter',1.0]] "Nearest neighbor" "0.306451873048214 0.306451873048214" WGS_1984_(ITRF00)_To_NAD_1983 # PROJCS['NAD_1983_StatePlane_Florida_West_FIPS_0902_Feet',GEOGCS['GCS_North_American_1983',DATUM['D_North_American_1983',SPHEROID['GRS_1980',6378137.0,298.257222101]],PRIMEM['Greenwich',0.0],UNIT['Degree',0.0174532925199433]],PROJECTION['Transverse_Mercator'],PARAMETER['False_Easting',656166.6666666665],PARAMETER['False_Northing',0.0],PARAMETER['Central_Meridian',-82.0],PARAMETER['Scale_Factor',0.9999411764705882],PARAMETER['Latitude_Of_Origin',24.33333333333333],UNIT['Foot_US',0.3048006096012192]] NO_VERTICAL</Process>
</lineage>
<itemProps>
<itemName Sync="TRUE">Projected1988Aerial</itemName>
<itemLocation>
<protocol Sync="TRUE">Local Area Network</protocol>
<linkage Sync="TRUE">file://\\arcfs01\ImageServices\imagery\Geodatabases\Mosaics_Web_Mercator.gdb</linkage>
</itemLocation>
<nativeExtBox>
<westBL Sync="TRUE">-9143621.798604</westBL>
<eastBL Sync="TRUE">-9084472.296780</eastBL>
<southBL Sync="TRUE">3199176.081029</southBL>
<northBL Sync="TRUE">3299522.214600</northBL>
<exTypeCode Sync="TRUE">1</exTypeCode>
</nativeExtBox>
<imsContentType Sync="TRUE">002</imsContentType>
</itemProps>
<coordRef>
<type Sync="TRUE">Projected</type>
<geogcsn Sync="TRUE">GCS_WGS_1984</geogcsn>
<csUnits Sync="TRUE">Linear Unit: Meter (1.000000)</csUnits>
<projcsn Sync="TRUE">WGS_1984_Web_Mercator_Auxiliary_Sphere</projcsn>
<peXml Sync="TRUE">&lt;ProjectedCoordinateSystem xsi:type='typens:ProjectedCoordinateSystem' xmlns:xsi='http://www.w3.org/2001/XMLSchema-instance' xmlns:xs='http://www.w3.org/2001/XMLSchema' xmlns:typens='http://www.esri.com/schemas/ArcGIS/2.6.0'&gt;&lt;WKT&gt;PROJCS[&amp;quot;WGS_1984_Web_Mercator_Auxiliary_Sphere&amp;quot;,GEOGCS[&amp;quot;GCS_WGS_1984&amp;quot;,DATUM[&amp;quot;D_WGS_1984&amp;quot;,SPHEROID[&amp;quot;WGS_1984&amp;quot;,6378137.0,298.257223563]],PRIMEM[&amp;quot;Greenwich&amp;quot;,0.0],UNIT[&amp;quot;Degree&amp;quot;,0.0174532925199433]],PROJECTION[&amp;quot;Mercator_Auxiliary_Sphere&amp;quot;],PARAMETER[&amp;quot;False_Easting&amp;quot;,0.0],PARAMETER[&amp;quot;False_Northing&amp;quot;,0.0],PARAMETER[&amp;quot;Central_Meridian&amp;quot;,0.0],PARAMETER[&amp;quot;Standard_Parallel_1&amp;quot;,0.0],PARAMETER[&amp;quot;Auxiliary_Sphere_Type&amp;quot;,0.0],UNIT[&amp;quot;Meter&amp;quot;,1.0],AUTHORITY[&amp;quot;EPSG&amp;quot;,3857]]&lt;/WKT&gt;&lt;XOrigin&gt;-20037700&lt;/XOrigin&gt;&lt;YOrigin&gt;-30241100&lt;/YOrigin&gt;&lt;XYScale&gt;148923141.92838538&lt;/XYScale&gt;&lt;ZOrigin&gt;-100000&lt;/ZOrigin&gt;&lt;ZScale&gt;10000&lt;/ZScale&gt;&lt;MOrigin&gt;-100000&lt;/MOrigin&gt;&lt;MScale&gt;10000&lt;/MScale&gt;&lt;XYTolerance&gt;0.001&lt;/XYTolerance&gt;&lt;ZTolerance&gt;0.001&lt;/ZTolerance&gt;&lt;MTolerance&gt;0.001&lt;/MTolerance&gt;&lt;HighPrecision&gt;true&lt;/HighPrecision&gt;&lt;WKID&gt;102100&lt;/WKID&gt;&lt;LatestWKID&gt;3857&lt;/LatestWKID&gt;&lt;/ProjectedCoordinateSystem&gt;</peXml>
</coordRef>
<RasterProperties>
<General>
<PixelDepth Sync="TRUE">8</PixelDepth>
<HasColormap Sync="TRUE">FALSE</HasColormap>
<CompressionType Sync="TRUE">None</CompressionType>
<NumBands Sync="TRUE">1</NumBands>
<Format Sync="TRUE">AMD</Format>
<HasPyramids Sync="TRUE">TRUE</HasPyramids>
<SourceType Sync="TRUE">continuous</SourceType>
<PixelType Sync="TRUE">unsigned integer</PixelType>
<NoDataValue Sync="TRUE"/>
</General>
<Properties>
<MaxImageHeight Sync="TRUE">4100</MaxImageHeight>
<MaxImageWidth Sync="TRUE">15000</MaxImageWidth>
<MaxRecordCount Sync="TRUE">1000</MaxRecordCount>
<MaxDownloadImageCount Sync="TRUE">20</MaxDownloadImageCount>
<MaxMosaicImageCount Sync="TRUE">20</MaxMosaicImageCount>
<DefaultCompressionQuality Sync="TRUE">75</DefaultCompressionQuality>
<ViewpointSpacingX Sync="TRUE">600</ViewpointSpacingX>
<ViewpointSpacingY Sync="TRUE">300</ViewpointSpacingY>
<AllowedItemMetadata Sync="TRUE">Full</AllowedItemMetadata>
<DefaultResamplingMethod Sync="TRUE">1</DefaultResamplingMethod>
<AllowedMosaicMethods Sync="TRUE">Center,NorthWest,LockRaster,ByAttribute,Nadir,Viewpoint,Seamline,None</AllowedMosaicMethods>
<AllowedCompressions Sync="TRUE">None,JPEG,LZ77</AllowedCompressions>
<AvailableMosaicMethods Sync="TRUE">NorthWest,Center,LockRaster,ByAttribute,Nadir,Viewpoint,Seamline,None</AvailableMosaicMethods>
<AvailableCompressionMethods Sync="TRUE">None,JPEG,LZ77,LERC</AvailableCompressionMethods>
<AvailableItemMetadataLevels Sync="TRUE">None,Basic,Full</AvailableItemMetadataLevels>
<ConfigKeyword Sync="TRUE"/>
<AllowedFields Sync="TRUE">Name,MinPS,MaxPS,LowPS,HighPS,Tag,GroupName,ProductName,CenterX,CenterY,ZOrder,SOrder,StereoID,Shape_Length,Shape_Area</AllowedFields>
<ClipToFootprint Sync="TRUE">-1</ClipToFootprint>
<LowCellSize Sync="TRUE">1.00541752015901</LowCellSize>
<HighCellSize Sync="TRUE">799.909054490061</HighCellSize>
<MaxCellSize Sync="TRUE">39995.452724503</MaxCellSize>
</Properties>
<Functions Sync="TRUE">
<Function Description="Perform on-the-fly mosaic on a raster catalog." Name="Mosaic Function"/>
</Functions>
</RasterProperties>
</DataProperties>
<SyncDate>20201125</SyncDate>
<SyncTime>21475700</SyncTime>
<ModDate>20201125</ModDate>
<ModTime>21475700</ModTime>
<Service Sync="TRUE">Images_1988</Service>
<ServiceType Sync="TRUE">image</ServiceType>
</Esri>
<dataIdInfo>
<dataLang>
<languageCode Sync="TRUE" value="eng"/>
<countryCode Sync="TRUE" value="USA"/>
</dataLang>
<idCitation>
<resTitle Sync="TRUE">1988 Aerial</resTitle>
<presForm>
<PresFormCd Sync="TRUE" value="011"/>
</presForm>
</idCitation>
<spatRpType>
<SpatRepTypCd Sync="TRUE" value="002"/>
</spatRpType>
<dataExt>
<geoEle>
<GeoBndBox esriExtentType="search">
<exTypeCode Sync="TRUE">1</exTypeCode>
<westBL Sync="TRUE">-82.138552</westBL>
<eastBL Sync="TRUE">-81.607203</eastBL>
<northBL Sync="TRUE">28.400184</northBL>
<southBL Sync="TRUE">27.604300</southBL>
</GeoBndBox>
</geoEle>
</dataExt>
<envirDesc Sync="TRUE">Microsoft Windows 10 Version 10.0 (Build 18363) ; Esri ArcGIS 12.6.2.24783</envirDesc>
<idAbs>Images_1988</idAbs>
<searchKeys>
<keyword>1988 Aerials</keyword>
<keyword>Aerials</keyword>
<keyword>1988</keyword>
</searchKeys>
<idPurp>1988 Aerial</idPurp>
<idCredit/>
<resConst>
<Consts>
<useLimit/>
</Consts>
</resConst>
</dataIdInfo>
<mdLang>
<languageCode Sync="TRUE" value="eng"/>
<countryCode Sync="TRUE" value="USA"/>
</mdLang>
<refSysInfo>
<RefSystem>
<refSysID>
<identCode Sync="TRUE" code="3857"/>
<idCodeSpace Sync="TRUE">EPSG</idCodeSpace>
<idVersion Sync="TRUE">8.8(9.3.1.2)</idVersion>
</refSysID>
</RefSystem>
</refSysInfo>
<spatRepInfo>
<Georect>
<cellGeo>
<CellGeoCd Sync="TRUE" value="002"/>
</cellGeo>
<numDims Sync="TRUE">2</numDims>
<tranParaAv Sync="TRUE">1</tranParaAv>
<chkPtAv Sync="TRUE">0</chkPtAv>
<cornerPts>
<pos Sync="TRUE">611624.561859 1189045.799357</pos>
</cornerPts>
<cornerPts>
<pos Sync="TRUE">611624.561859 1478196.840232</pos>
</cornerPts>
<cornerPts>
<pos Sync="TRUE">782449.020205 1478196.840232</pos>
</cornerPts>
<cornerPts>
<pos Sync="TRUE">782449.020205 1189045.799357</pos>
</cornerPts>
<centerPt>
<pos Sync="TRUE">697036.791032 1333621.319795</pos>
</centerPt>
<axisDimension type="002">
<dimSize Sync="TRUE">169904</dimSize>
<dimResol>
<value Sync="TRUE" uom="ftUS">1.005418</value>
</dimResol>
</axisDimension>
<axisDimension type="001">
<dimSize Sync="TRUE">287593</dimSize>
<dimResol>
<value Sync="TRUE" uom="ftUS">1.005418</value>
</dimResol>
</axisDimension>
<ptInPixel>
<PixOrientCd Sync="TRUE" value="001"/>
</ptInPixel>
</Georect>
</spatRepInfo>
<contInfo>
<ImgDesc>
<contentTyp>
<ContentTypCd Sync="TRUE" value="001"/>
</contentTyp>
<covDim>
<Band>
<dimDescrp Sync="TRUE">Band_1</dimDescrp>
<maxVal Sync="TRUE">255.000000</maxVal>
<minVal Sync="TRUE">0.000000</minVal>
<bitsPerVal Sync="TRUE">8</bitsPerVal>
<valUnit>
<UOM type="length"/>
</valUnit>
</Band>
</covDim>
</ImgDesc>
</contInfo>
<mdDateSt Sync="TRUE">20201125</mdDateSt>
<idinfo>
<citation>
<citeinfo>
<origin/>
</citeinfo>
</citation>
<descript>
<abstract>Images_1988</abstract>
</descript>
</idinfo>
<eainfo>
<detailed Name="AMD_Images_1988_CAT">
<enttyp>
<enttypl Sync="TRUE">AMD_Images_1988_CAT</enttypl>
<enttypt Sync="TRUE">Feature Class</enttypt>
<enttypc Sync="TRUE">613</enttypc>
</enttyp>
<attr>
<attrlabl Sync="TRUE">OBJECTID</attrlabl>
<attalias Sync="TRUE">OBJECTID</attalias>
<attrtype Sync="TRUE">OID</attrtype>
<attwidth Sync="TRUE">4</attwidth>
<atprecis Sync="TRUE">0</atprecis>
<attscale Sync="TRUE">0</attscale>
<attrdef Sync="TRUE">Internal feature number.</attrdef>
<attrdefs Sync="TRUE">Esri</attrdefs>
<attrdomv>
<udom Sync="TRUE">Sequential unique whole numbers that are automatically generated.</udom>
</attrdomv>
</attr>
<attr>
<attrlabl Sync="TRUE">Shape</attrlabl>
<attalias Sync="TRUE">Shape</attalias>
<attrtype Sync="TRUE">Geometry</attrtype>
<attwidth Sync="TRUE">0</attwidth>
<atprecis Sync="TRUE">0</atprecis>
<attscale Sync="TRUE">0</attscale>
<attrdef Sync="TRUE">Feature geometry.</attrdef>
<attrdefs Sync="TRUE">Esri</attrdefs>
<attrdomv>
<udom Sync="TRUE">Coordinates defining the features.</udom>
</attrdomv>
</attr>
<attr>
<attrlabl Sync="TRUE">Raster</attrlabl>
<attalias Sync="TRUE">Raster</attalias>
<attrtype Sync="TRUE">Raster</attrtype>
<attwidth Sync="TRUE">0</attwidth>
<atprecis Sync="TRUE">0</atprecis>
<attscale Sync="TRUE">0</attscale>
</attr>
<attr>
<attrlabl Sync="TRUE">Name</attrlabl>
<attalias Sync="TRUE">Name</attalias>
<attrtype Sync="TRUE">String</attrtype>
<attwidth Sync="TRUE">50</attwidth>
<atprecis Sync="TRUE">0</atprecis>
<attscale Sync="TRUE">0</attscale>
</attr>
<attr>
<attrlabl Sync="TRUE">MinPS</attrlabl>
<attalias Sync="TRUE">MinPS</attalias>
<attrtype Sync="TRUE">Double</attrtype>
<attwidth Sync="TRUE">8</attwidth>
<atprecis Sync="TRUE">0</atprecis>
<attscale Sync="TRUE">0</attscale>
</attr>
<attr>
<attrlabl Sync="TRUE">MaxPS</attrlabl>
<attalias Sync="TRUE">MaxPS</attalias>
<attrtype Sync="TRUE">Double</attrtype>
<attwidth Sync="TRUE">8</attwidth>
<atprecis Sync="TRUE">0</atprecis>
<attscale Sync="TRUE">0</attscale>
</attr>
<attr>
<attrlabl Sync="TRUE">LowPS</attrlabl>
<attalias Sync="TRUE">LowPS</attalias>
<attrtype Sync="TRUE">Double</attrtype>
<attwidth Sync="TRUE">8</attwidth>
<atprecis Sync="TRUE">0</atprecis>
<attscale Sync="TRUE">0</attscale>
</attr>
<attr>
<attrlabl Sync="TRUE">HighPS</attrlabl>
<attalias Sync="TRUE">HighPS</attalias>
<attrtype Sync="TRUE">Double</attrtype>
<attwidth Sync="TRUE">8</attwidth>
<atprecis Sync="TRUE">0</atprecis>
<attscale Sync="TRUE">0</attscale>
</attr>
<attr>
<attrlabl Sync="TRUE">Category</attrlabl>
<attalias Sync="TRUE">Category</attalias>
<attrtype Sync="TRUE">Integer</attrtype>
<attwidth Sync="TRUE">4</attwidth>
<atprecis Sync="TRUE">0</atprecis>
<attscale Sync="TRUE">0</attscale>
</attr>
<attr>
<attrlabl Sync="TRUE">Tag</attrlabl>
<attalias Sync="TRUE">Tag</attalias>
<attrtype Sync="TRUE">String</attrtype>
<attwidth Sync="TRUE">20</attwidth>
<atprecis Sync="TRUE">0</atprecis>
<attscale Sync="TRUE">0</attscale>
</attr>
<attr>
<attrlabl Sync="TRUE">GroupName</attrlabl>
<attalias Sync="TRUE">GroupName</attalias>
<attrtype Sync="TRUE">String</attrtype>
<attwidth Sync="TRUE">50</attwidth>
<atprecis Sync="TRUE">0</atprecis>
<attscale Sync="TRUE">0</attscale>
</attr>
<attr>
<attrlabl Sync="TRUE">ProductName</attrlabl>
<attalias Sync="TRUE">ProductName</attalias>
<attrtype Sync="TRUE">String</attrtype>
<attwidth Sync="TRUE">50</attwidth>
<atprecis Sync="TRUE">0</atprecis>
<attscale Sync="TRUE">0</attscale>
</attr>
<attr>
<attrlabl Sync="TRUE">CenterX</attrlabl>
<attalias Sync="TRUE">CenterX</attalias>
<attrtype Sync="TRUE">Double</attrtype>
<attwidth Sync="TRUE">8</attwidth>
<atprecis Sync="TRUE">0</atprecis>
<attscale Sync="TRUE">0</attscale>
</attr>
<attr>
<attrlabl Sync="TRUE">CenterY</attrlabl>
<attalias Sync="TRUE">CenterY</attalias>
<attrtype Sync="TRUE">Double</attrtype>
<attwidth Sync="TRUE">8</attwidth>
<atprecis Sync="TRUE">0</atprecis>
<attscale Sync="TRUE">0</attscale>
</attr>
<attr>
<attrlabl Sync="TRUE">ZOrder</attrlabl>
<attalias Sync="TRUE">ZOrder</attalias>
<attrtype Sync="TRUE">Integer</attrtype>
<attwidth Sync="TRUE">4</attwidth>
<atprecis Sync="TRUE">0</atprecis>
<attscale Sync="TRUE">0</attscale>
</attr>
<attr>
<attrlabl Sync="TRUE">SOrder</attrlabl>
<attalias Sync="TRUE">SOrder</attalias>
<attrtype Sync="TRUE">Integer</attrtype>
<attwidth Sync="TRUE">4</attwidth>
<atprecis Sync="TRUE">0</atprecis>
<attscale Sync="TRUE">0</attscale>
</attr>
<attr>
<attrlabl Sync="TRUE">TypeID</attrlabl>
<attalias Sync="TRUE">Raster Type ID</attalias>
<attrtype Sync="TRUE">Integer</attrtype>
<attwidth Sync="TRUE">4</attwidth>
<atprecis Sync="TRUE">0</atprecis>
<attscale Sync="TRUE">0</attscale>
</attr>
<attr>
<attrlabl Sync="TRUE">StereoID</attrlabl>
<attalias Sync="TRUE">StereoID</attalias>
<attrtype Sync="TRUE">String</attrtype>
<attwidth Sync="TRUE">50</attwidth>
<atprecis Sync="TRUE">0</atprecis>
<attscale Sync="TRUE">0</attscale>
</attr>
<attr>
<attrlabl Sync="TRUE">ItemTS</attrlabl>
<attalias Sync="TRUE">ItemTS</attalias>
<attrtype Sync="TRUE">Double</attrtype>
<attwidth Sync="TRUE">8</attwidth>
<atprecis Sync="TRUE">0</atprecis>
<attscale Sync="TRUE">0</attscale>
</attr>
<attr>
<attrlabl Sync="TRUE">UriHash</attrlabl>
<attalias Sync="TRUE">UriHash</attalias>
<attrtype Sync="TRUE">String</attrtype>
<attwidth Sync="TRUE">50</attwidth>
<atprecis Sync="TRUE">0</atprecis>
<attscale Sync="TRUE">0</attscale>
</attr>
<attr>
<attrlabl Sync="TRUE">Uri</attrlabl>
<attalias Sync="TRUE">Uri</attalias>
<attrtype Sync="TRUE">Blob</attrtype>
<attwidth Sync="TRUE">0</attwidth>
<atprecis Sync="TRUE">0</atprecis>
<attscale Sync="TRUE">0</attscale>
</attr>
<attr>
<attrlabl Sync="TRUE">Shape_Length</attrlabl>
<attalias Sync="TRUE">Shape_Length</attalias>
<attrtype Sync="TRUE">Double</attrtype>
<attwidth Sync="TRUE">8</attwidth>
<atprecis Sync="TRUE">0</atprecis>
<attscale Sync="TRUE">0</attscale>
<attrdef Sync="TRUE">Length of feature in internal units.</attrdef>
<attrdefs Sync="TRUE">Esri</attrdefs>
<attrdomv>
<udom Sync="TRUE">Positive real numbers that are automatically generated.</udom>
</attrdomv>
</attr>
<attr>
<attrlabl Sync="TRUE">Shape_Area</attrlabl>
<attalias Sync="TRUE">Shape_Area</attalias>
<attrtype Sync="TRUE">Double</attrtype>
<attwidth Sync="TRUE">8</attwidth>
<atprecis Sync="TRUE">0</atprecis>
<attscale Sync="TRUE">0</attscale>
<attrdef Sync="TRUE">Area of feature in internal units squared.</attrdef>
<attrdefs Sync="TRUE">Esri</attrdefs>
<attrdomv>
<udom Sync="TRUE">Positive real numbers that are automatically generated.</udom>
</attrdomv>
</attr>
</detailed>
</eainfo>
<distInfo>
<distFormat>
<formatName Sync="TRUE">File Geodatabase Raster Dataset</formatName>
</distFormat>
</distInfo>
<mdHrLv>
<ScopeCd Sync="TRUE" value="005"/>
</mdHrLv>
<mdHrLvName Sync="TRUE">dataset</mdHrLvName>
<spdoinfo>
<rastinfo>
<rasttype Sync="TRUE">Pixel</rasttype>
<rowcount Sync="TRUE">327445</rowcount>
<colcount Sync="TRUE">193014</colcount>
<rastxsz Sync="TRUE">0.306452</rastxsz>
<rastysz Sync="TRUE">0.306452</rastysz>
<rastbpp Sync="TRUE">8</rastbpp>
<vrtcount Sync="TRUE">1</vrtcount>
<rastorig Sync="TRUE">Upper Left</rastorig>
<rastcmap Sync="TRUE">FALSE</rastcmap>
<rastcomp Sync="TRUE">LZ77</rastcomp>
<rastband Sync="TRUE">1</rastband>
<rastdtyp Sync="TRUE">pixel codes</rastdtyp>
<rastifor Sync="TRUE">FGDBR</rastifor>
<rastplyr Sync="TRUE">TRUE</rastplyr>
</rastinfo>
</spdoinfo>
<spref>
<horizsys>
<planar>
<planci>
<plance Sync="TRUE">row and column</plance>
<coordrep>
<absres Sync="TRUE">0.306452</absres>
<ordres Sync="TRUE">0.306452</ordres>
</coordrep>
</planci>
</planar>
</horizsys>
</spref>
</metadata>
